BEGIN:VCALENDAR
VERSION:2.0
PRODID:-//Community MusicWorks - ECPv6.15.17.1//NONSGML v1.0//EN
CALSCALE:GREGORIAN
METHOD:PUBLISH
X-WR-CALNAME:Community MusicWorks
X-ORIGINAL-URL:https://communitymusicworks.org
X-WR-CALDESC:Events for Community MusicWorks
REFRESH-INTERVAL;VALUE=DURATION:PT1H
X-Robots-Tag:noindex
X-PUBLISHED-TTL:PT1H
BEGIN:VTIMEZONE
TZID:America/New_York
BEGIN:DAYLIGHT
TZOFFSETFROM:-0500
TZOFFSETTO:-0400
TZNAME:EDT
DTSTART:20230312T070000
END:DAYLIGHT
BEGIN:STANDARD
TZOFFSETFROM:-0400
TZOFFSETTO:-0500
TZNAME:EST
DTSTART:20231105T060000
END:STANDARD
BEGIN:DAYLIGHT
TZOFFSETFROM:-0500
TZOFFSETTO:-0400
TZNAME:EDT
DTSTART:20240310T070000
END:DAYLIGHT
BEGIN:STANDARD
TZOFFSETFROM:-0400
TZOFFSETTO:-0500
TZNAME:EST
DTSTART:20241103T060000
END:STANDARD
BEGIN:DAYLIGHT
TZOFFSETFROM:-0500
TZOFFSETTO:-0400
TZNAME:EDT
DTSTART:20250309T070000
END:DAYLIGHT
BEGIN:STANDARD
TZOFFSETFROM:-0400
TZOFFSETTO:-0500
TZNAME:EST
DTSTART:20251102T060000
END:STANDARD
END:VTIMEZONE
BEGIN:VEVENT
DTSTART;TZID=America/New_York:20240114T150000
DTEND;TZID=America/New_York:20240114T163000
DTSTAMP:20260425T165236
CREATED:20230901T171307Z
LAST-MODIFIED:20240108T212341Z
UID:16867-1705244400-1705249800@communitymusicworks.org
SUMMARY:MusicWorks Collective: Winter Meditation
DESCRIPTION:MusicWorks Collective presents a world premiere piece by composer and former CMW Resident Musician Laura Cetilia and works by Swiss composer and clarinetist Jürg Frey and German composer Ludwig van Beethoven. \nJoin us for a special performance of three works for string quartet that in different ways bring us toward the devotional and aspirational qualities of being human. In the premiere of the newly commissioned work counterglow\, composer (and former CMW Resident Musician) Laura Cetilia takes the audience on a 10 minute journey from the cosmos to the earth and back again\, illuminating the journey through her compositional technique of hearing every point on the length of a violin\, viola\, or cello string. Laura quotes from artist Yayoi Kusama\, who describes polka dots as invitations to the otherworldly: “Our earth is only one polka dot among a million stars in the cosmos.” \nLaura has long been inspired by the Wandelweiser Collective musicians\, including Swiss composer Jürg Frey\, whose Third Quartet is a quiet durational meditation slowly progressing through several iconic chords. In his article about the Wandelweiser Collective New Yorker music writer Alex Ross says that “in much of Frey’s music achingly Romantic harmonies drift to and fro\, as if a Mahler Adagio were suspended in zero gravity.” \nThe program ends with the slow movement from the late Beethoven a minor quartet\, Op. 132 “Heiliger Dankesang“ which the composer wrote during his recovery from what could have been a life-threatening illness. This “Holy Song of Thanksgiving from a Convalescent to the Divinity” has been a lodestar for many musicians and music lovers\, alternating between reverent stillness and spectrally celebratory music. \nWe look forward to sharing this wonderous music of contemplation and hope in the darkness of these winter days and amidst the backdrop of the struggling world. \nMusicWorks Collective in Concert\nSunday\, January 14 at 3 pm\nBell Street Chapel\, Providence \nAdmission is free but seating is limited\nMake your reservation here \n 
URL:https://communitymusicworks.org/event/musicworks-collective-in-concert-4/
LOCATION:Bell Street Chapel\, 5 Bell Street\, Providence\, RI\, 02909
END:VEVENT
END:VCALENDAR