BEGIN:VCALENDAR
VERSION:2.0
PRODID:-//Community MusicWorks - ECPv6.15.17.1//NONSGML v1.0//EN
CALSCALE:GREGORIAN
METHOD:PUBLISH
X-WR-CALNAME:Community MusicWorks
X-ORIGINAL-URL:https://communitymusicworks.org
X-WR-CALDESC:Events for Community MusicWorks
REFRESH-INTERVAL;VALUE=DURATION:PT1H
X-Robots-Tag:noindex
X-PUBLISHED-TTL:PT1H
BEGIN:VTIMEZONE
TZID:America/New_York
BEGIN:DAYLIGHT
TZOFFSETFROM:-0500
TZOFFSETTO:-0400
TZNAME:EDT
DTSTART:20230312T070000
END:DAYLIGHT
BEGIN:STANDARD
TZOFFSETFROM:-0400
TZOFFSETTO:-0500
TZNAME:EST
DTSTART:20231105T060000
END:STANDARD
BEGIN:DAYLIGHT
TZOFFSETFROM:-0500
TZOFFSETTO:-0400
TZNAME:EDT
DTSTART:20240310T070000
END:DAYLIGHT
BEGIN:STANDARD
TZOFFSETFROM:-0400
TZOFFSETTO:-0500
TZNAME:EST
DTSTART:20241103T060000
END:STANDARD
BEGIN:DAYLIGHT
TZOFFSETFROM:-0500
TZOFFSETTO:-0400
TZNAME:EDT
DTSTART:20250309T070000
END:DAYLIGHT
BEGIN:STANDARD
TZOFFSETFROM:-0400
TZOFFSETTO:-0500
TZNAME:EST
DTSTART:20251102T060000
END:STANDARD
END:VTIMEZONE
BEGIN:VEVENT
DTSTART;TZID=America/New_York:20240224T150000
DTEND;TZID=America/New_York:20240224T163000
DTSTAMP:20260425T150202
CREATED:20230901T171858Z
LAST-MODIFIED:20240216T183123Z
UID:16872-1708786800-1708792200@communitymusicworks.org
SUMMARY:Annual Fred Kelley Scholarship Concert
DESCRIPTION:Join us for an afternoon of music that features Piano Trio No. 3 in f minor\, composed by Antonín Dvořák\, performed by CMW Resident Musicians Jesse Holstein and Adrienne Taylor with guest pianist Andrei Baumann. The program also includes a large student ensemble performance of Jessie Montgomery’s Anthem. \n\n\nAnnual Fred Kelley Scholarship Concert\nSaturday\, February 24 at 3 pm\nBell Street Chapel \n\n\nAdmission is free*\, but seating is limited.\nMake your reservation here. \n\n\n*Donations at the concert support CMW student scholarships to the summer program at Apple Hill Center for Chamber Music. \n\n 
URL:https://communitymusicworks.org/event/annual-fred-kelley-scholarship-concert-2/
LOCATION:Bell Street Chapel\, 5 Bell Street\, Providence\, RI\, 02909
END:VEVENT
END:VCALENDAR