BEGIN:VCALENDAR
VERSION:2.0
PRODID:-//Community MusicWorks - ECPv6.15.17.1//NONSGML v1.0//EN
CALSCALE:GREGORIAN
METHOD:PUBLISH
X-ORIGINAL-URL:https://communitymusicworks.org
X-WR-CALDESC:Events for Community MusicWorks
REFRESH-INTERVAL;VALUE=DURATION:PT1H
X-Robots-Tag:noindex
X-PUBLISHED-TTL:PT1H
BEGIN:VTIMEZONE
TZID:America/New_York
BEGIN:DAYLIGHT
TZOFFSETFROM:-0500
TZOFFSETTO:-0400
TZNAME:EDT
DTSTART:20230312T070000
END:DAYLIGHT
BEGIN:STANDARD
TZOFFSETFROM:-0400
TZOFFSETTO:-0500
TZNAME:EST
DTSTART:20231105T060000
END:STANDARD
BEGIN:DAYLIGHT
TZOFFSETFROM:-0500
TZOFFSETTO:-0400
TZNAME:EDT
DTSTART:20240310T070000
END:DAYLIGHT
BEGIN:STANDARD
TZOFFSETFROM:-0400
TZOFFSETTO:-0500
TZNAME:EST
DTSTART:20241103T060000
END:STANDARD
BEGIN:DAYLIGHT
TZOFFSETFROM:-0500
TZOFFSETTO:-0400
TZNAME:EDT
DTSTART:20250309T070000
END:DAYLIGHT
BEGIN:STANDARD
TZOFFSETFROM:-0400
TZOFFSETTO:-0500
TZNAME:EST
DTSTART:20251102T060000
END:STANDARD
END:VTIMEZONE
BEGIN:VEVENT
DTSTART;TZID=America/New_York:20240403T130000
DTEND;TZID=America/New_York:20240403T140000
DTSTAMP:20260425T114254
CREATED:20230901T172450Z
LAST-MODIFIED:20240401T122112Z
UID:16878-1712149200-1712152800@communitymusicworks.org
SUMMARY:MusicWorks Collective Around Town
DESCRIPTION:Spring is popping out all over\, and so is the MusicWorks Collective! Come together with the MWC for a series of pop-up string quartet performances around Providence. Join Kimberly Fang\, Becca Kasdan\, Alexis Nelson\, and Kamyron Williams as they feature the music of William Grant Still and Jose Elizondo and welcome the community into several local venues. Join us for these performances open to the public: \nMusicWorks Collective in Concert Around Town\n \nWednesday\, April 3 at 1:00 PM: Athenaeum\n251 Benefit St\, Providence\, RI 02903 \nSaturday\, April 6 at 2:30 PM: Children’s Museum\n100 South St\, Providence\, RI 02903 \nSaturday\, April 6 at 5:00 PM: Sin Bakery\n1413 Westminster Street\, Providence\, RI 02903 \n 
URL:https://communitymusicworks.org/event/musicworks-collective-around-town/
LOCATION:Providence Athenaeum\, 251 Benefit Street\, Providence\, RI\, 02903\, United States
END:VEVENT
END:VCALENDAR