BEGIN:VCALENDAR
VERSION:2.0
PRODID:-//Community MusicWorks - ECPv6.15.17.1//NONSGML v1.0//EN
CALSCALE:GREGORIAN
METHOD:PUBLISH
X-WR-CALNAME:Community MusicWorks
X-ORIGINAL-URL:https://communitymusicworks.org
X-WR-CALDESC:Events for Community MusicWorks
REFRESH-INTERVAL;VALUE=DURATION:PT1H
X-Robots-Tag:noindex
X-PUBLISHED-TTL:PT1H
BEGIN:VTIMEZONE
TZID:America/New_York
BEGIN:DAYLIGHT
TZOFFSETFROM:-0500
TZOFFSETTO:-0400
TZNAME:EDT
DTSTART:20230312T070000
END:DAYLIGHT
BEGIN:STANDARD
TZOFFSETFROM:-0400
TZOFFSETTO:-0500
TZNAME:EST
DTSTART:20231105T060000
END:STANDARD
BEGIN:DAYLIGHT
TZOFFSETFROM:-0500
TZOFFSETTO:-0400
TZNAME:EDT
DTSTART:20240310T070000
END:DAYLIGHT
BEGIN:STANDARD
TZOFFSETFROM:-0400
TZOFFSETTO:-0500
TZNAME:EST
DTSTART:20241103T060000
END:STANDARD
BEGIN:DAYLIGHT
TZOFFSETFROM:-0500
TZOFFSETTO:-0400
TZNAME:EDT
DTSTART:20250309T070000
END:DAYLIGHT
BEGIN:STANDARD
TZOFFSETFROM:-0400
TZOFFSETTO:-0500
TZNAME:EST
DTSTART:20251102T060000
END:STANDARD
END:VTIMEZONE
BEGIN:VEVENT
DTSTART;TZID=America/New_York:20240510T180000
DTEND;TZID=America/New_York:20240510T190000
DTSTAMP:20260425T094922
CREATED:20230901T175716Z
LAST-MODIFIED:20240507T152621Z
UID:16880-1715364000-1715367600@communitymusicworks.org
SUMMARY:Senior Recitals
DESCRIPTION:Join us in honoring our graduates Alyssa\, Daniel\, Dayana\, Felipe\, and Melanie as they make their farewell to CMW! The program features tributes\, performances by the graduates\, Youth Alliance\, and the Phase II Orchestra\, along with cheers\, tears\, hugs\, and high fives. \nSenior Recitals\nFriday\, May 10 at 6 pm\nBell Street Chapel\, 5 Bell Street\, Providence
URL:https://communitymusicworks.org/event/senior-recitals/
LOCATION:Bell Street Chapel\, 5 Bell Street\, Providence\, RI\, 02909
END:VEVENT
END:VCALENDAR