BEGIN:VCALENDAR
VERSION:2.0
PRODID:-//Community MusicWorks - ECPv6.15.17.1//NONSGML v1.0//EN
CALSCALE:GREGORIAN
METHOD:PUBLISH
X-WR-CALNAME:Community MusicWorks
X-ORIGINAL-URL:https://communitymusicworks.org
X-WR-CALDESC:Events for Community MusicWorks
REFRESH-INTERVAL;VALUE=DURATION:PT1H
X-Robots-Tag:noindex
X-PUBLISHED-TTL:PT1H
BEGIN:VTIMEZONE
TZID:America/New_York
BEGIN:DAYLIGHT
TZOFFSETFROM:-0500
TZOFFSETTO:-0400
TZNAME:EDT
DTSTART:20230312T070000
END:DAYLIGHT
BEGIN:STANDARD
TZOFFSETFROM:-0400
TZOFFSETTO:-0500
TZNAME:EST
DTSTART:20231105T060000
END:STANDARD
BEGIN:DAYLIGHT
TZOFFSETFROM:-0500
TZOFFSETTO:-0400
TZNAME:EDT
DTSTART:20240310T070000
END:DAYLIGHT
BEGIN:STANDARD
TZOFFSETFROM:-0400
TZOFFSETTO:-0500
TZNAME:EST
DTSTART:20241103T060000
END:STANDARD
BEGIN:DAYLIGHT
TZOFFSETFROM:-0500
TZOFFSETTO:-0400
TZNAME:EDT
DTSTART:20250309T070000
END:DAYLIGHT
BEGIN:STANDARD
TZOFFSETFROM:-0400
TZOFFSETTO:-0500
TZNAME:EST
DTSTART:20251102T060000
END:STANDARD
END:VTIMEZONE
BEGIN:VEVENT
DTSTART;TZID=America/New_York:20240609T150000
DTEND;TZID=America/New_York:20240609T160000
DTSTAMP:20260425T080030
CREATED:20230901T180421Z
LAST-MODIFIED:20240520T174424Z
UID:16889-1717945200-1717948800@communitymusicworks.org
SUMMARY:MusicWorks Collective Season Finale Concert
DESCRIPTION:Season 27 concludes with the MusicWorks Collective joining together for the spirited Ernest Bloch Concerto Grosso No. 1 featuring pianist Ivan Tan\, and reprise performances of a wonderfully lyrical string quartet by Adrienne Taylor and the evocative Estampas Mexicanas by José Elizando. Join us to celebrate summer’s arrival with a program of joyous sounds. \nMusicWorks Collective Season Finale Concert\nSunday\, June 9 at 3 pm\nBell Street Chapel\, Providence\nAdmission is free; Make your reservation here.
URL:https://communitymusicworks.org/event/musicworks-collective-season-finale-concert-2/
LOCATION:Bell Street Chapel\, 5 Bell Street\, Providence\, RI\, 02909
END:VEVENT
END:VCALENDAR