BEGIN:VCALENDAR
VERSION:2.0
PRODID:-//Community MusicWorks - ECPv6.15.17.1//NONSGML v1.0//EN
CALSCALE:GREGORIAN
METHOD:PUBLISH
X-WR-CALNAME:Community MusicWorks
X-ORIGINAL-URL:https://communitymusicworks.org
X-WR-CALDESC:Events for Community MusicWorks
REFRESH-INTERVAL;VALUE=DURATION:PT1H
X-Robots-Tag:noindex
X-PUBLISHED-TTL:PT1H
BEGIN:VTIMEZONE
TZID:America/New_York
BEGIN:DAYLIGHT
TZOFFSETFROM:-0500
TZOFFSETTO:-0400
TZNAME:EDT
DTSTART:20240310T070000
END:DAYLIGHT
BEGIN:STANDARD
TZOFFSETFROM:-0400
TZOFFSETTO:-0500
TZNAME:EST
DTSTART:20241103T060000
END:STANDARD
BEGIN:DAYLIGHT
TZOFFSETFROM:-0500
TZOFFSETTO:-0400
TZNAME:EDT
DTSTART:20250309T070000
END:DAYLIGHT
BEGIN:STANDARD
TZOFFSETFROM:-0400
TZOFFSETTO:-0500
TZNAME:EST
DTSTART:20251102T060000
END:STANDARD
BEGIN:DAYLIGHT
TZOFFSETFROM:-0500
TZOFFSETTO:-0400
TZNAME:EDT
DTSTART:20260308T070000
END:DAYLIGHT
BEGIN:STANDARD
TZOFFSETFROM:-0400
TZOFFSETTO:-0500
TZNAME:EST
DTSTART:20261101T060000
END:STANDARD
END:VTIMEZONE
BEGIN:VEVENT
DTSTART;TZID=America/New_York:20250125T190000
DTEND;TZID=America/New_York:20250125T210000
DTSTAMP:20260424T200211
CREATED:20241014T144352Z
LAST-MODIFIED:20250117T204505Z
UID:17714-1737831600-1737838800@communitymusicworks.org
SUMMARY:MusicWorks Collective in Concert: Time's Echo with Jeremy Eichler
DESCRIPTION:MusicWorks Collective in Concert: Time’s Echo with Jeremy Eichler\nJoin us on January 25 & 26 for a two-concert series featuring a presentation by writer and historian Jeremy Eichler followed by a performance by the MusicWorks Collective. \nCommunity MusicWorks is thrilled to welcome scholar\, writer\, and musician Jeremy Eichler\, whose recent award-winning book Time’s Echo makes an eloquent case for the role of music as memory-bearer for culture. The event includes a presentation by Jeremy followed by a performance by the MusicWorks Collective. \nEach concert features a separate topic and program: Join us for one or both! \nThis event is free\, with an option to support CMW with Choose-What-You-Pay suggested ticket prices:\n$30 admission (single concert)\n$45 admission (both concerts)\n$10 child (12 and under) \nSaturday\, January 25 at 7 pm\nCommunity MusicWorks Center\n1326 Westminster Street\, Providence\, RI 02909\nSaturday evening’s program will include a presentation by Jeremy followed by a MusicWorks Collective performance of Richard Strauss’s late masterpiece Metamorphosen.\nReserve your seat for Saturday’s performance. \n*Sunday’s event is sold out*\nSunday\, January 26 at 3 pm\nCommunity MusicWorks Center\n1326 Westminster Street\, Providence\, RI 02909\nSunday afternoon’s program will include a presentation by Jeremy followed by a MusicWorks Collective performance of Benjamin Britten’s “Chacony” from the String Quartet No. 2 and Dmitri Shostakovich’s Piano Trio No. 2.\n\n \nLearn more about Jeremy Eichler
URL:https://communitymusicworks.org/event/musicworks-collective-in-concert-times-echo-with-jeremy-eichler/
LOCATION:The CMW Center\, 1326 Westminster Street\, Providence\, RI\, 02888\, United States
END:VEVENT
END:VCALENDAR