BEGIN:VCALENDAR
VERSION:2.0
PRODID:-//Community MusicWorks - ECPv6.15.17.1//NONSGML v1.0//EN
CALSCALE:GREGORIAN
METHOD:PUBLISH
X-WR-CALNAME:Community MusicWorks
X-ORIGINAL-URL:https://communitymusicworks.org
X-WR-CALDESC:Events for Community MusicWorks
REFRESH-INTERVAL;VALUE=DURATION:PT1H
X-Robots-Tag:noindex
X-PUBLISHED-TTL:PT1H
BEGIN:VTIMEZONE
TZID:America/New_York
BEGIN:DAYLIGHT
TZOFFSETFROM:-0500
TZOFFSETTO:-0400
TZNAME:EDT
DTSTART:20240310T070000
END:DAYLIGHT
BEGIN:STANDARD
TZOFFSETFROM:-0400
TZOFFSETTO:-0500
TZNAME:EST
DTSTART:20241103T060000
END:STANDARD
BEGIN:DAYLIGHT
TZOFFSETFROM:-0500
TZOFFSETTO:-0400
TZNAME:EDT
DTSTART:20250309T070000
END:DAYLIGHT
BEGIN:STANDARD
TZOFFSETFROM:-0400
TZOFFSETTO:-0500
TZNAME:EST
DTSTART:20251102T060000
END:STANDARD
BEGIN:DAYLIGHT
TZOFFSETFROM:-0500
TZOFFSETTO:-0400
TZNAME:EDT
DTSTART:20260308T070000
END:DAYLIGHT
BEGIN:STANDARD
TZOFFSETFROM:-0400
TZOFFSETTO:-0500
TZNAME:EST
DTSTART:20261101T060000
END:STANDARD
END:VTIMEZONE
BEGIN:VEVENT
DTSTART;TZID=America/New_York:20250907T120000
DTEND;TZID=America/New_York:20250907T160000
DTSTAMP:20260424T062646
CREATED:20250807T170155Z
LAST-MODIFIED:20250905T221805Z
UID:18149-1757246400-1757260800@communitymusicworks.org
SUMMARY:Season 29 Opening Concert
DESCRIPTION:**We have reached capacity for seating in the Performance Hall\, but you are encouraged to come on down to the CMW Center and enjoy the concert in the cafe\, where we’ll be live-streaming the concert video.** \nSeason 29 begins on Sunday\, September 7 with a festive late-summer open house and concert\, featuring the rich lyricism of Dvořák’s Piano Quintet\, the dynamic Concerto for String Orchestra by Portuguese composer Joly Braga Santos\, and quartets by Hawa Diabaté and Merlijn Twaalfhoven from the Kronos Quartet’s Fifty for the Future commissioning project. \n\n12 pm: Building tours and light\, casual eats\, including empanadas and strawberries with chocolate and cream by the fabulous Fragolas\n1 pm: MusicWorks Collective in Concert (also fabulous)\n2:30 pm: More building tours and refreshments\, with music by DJ Josh Rodriguez\n\nJoin us! \nMusicWorks Collective Season Opening Concert\nSunday\, September 7 at 1 pm\nThe CMW Center\n1326 Westminster Street
URL:https://communitymusicworks.org/event/season-29-opening-concert/
LOCATION:The CMW Center\, 1326 Westminster Street\, Providence\, RI\, 02888\, United States
END:VEVENT
END:VCALENDAR