BEGIN:VCALENDAR
VERSION:2.0
PRODID:-//Community MusicWorks - ECPv6.15.17.1//NONSGML v1.0//EN
CALSCALE:GREGORIAN
METHOD:PUBLISH
X-ORIGINAL-URL:https://communitymusicworks.org
X-WR-CALDESC:Events for Community MusicWorks
REFRESH-INTERVAL;VALUE=DURATION:PT1H
X-Robots-Tag:noindex
X-PUBLISHED-TTL:PT1H
BEGIN:VTIMEZONE
TZID:America/New_York
BEGIN:DAYLIGHT
TZOFFSETFROM:-0500
TZOFFSETTO:-0400
TZNAME:EDT
DTSTART:20240310T070000
END:DAYLIGHT
BEGIN:STANDARD
TZOFFSETFROM:-0400
TZOFFSETTO:-0500
TZNAME:EST
DTSTART:20241103T060000
END:STANDARD
BEGIN:DAYLIGHT
TZOFFSETFROM:-0500
TZOFFSETTO:-0400
TZNAME:EDT
DTSTART:20250309T070000
END:DAYLIGHT
BEGIN:STANDARD
TZOFFSETFROM:-0400
TZOFFSETTO:-0500
TZNAME:EST
DTSTART:20251102T060000
END:STANDARD
BEGIN:DAYLIGHT
TZOFFSETFROM:-0500
TZOFFSETTO:-0400
TZNAME:EDT
DTSTART:20260308T070000
END:DAYLIGHT
BEGIN:STANDARD
TZOFFSETFROM:-0400
TZOFFSETTO:-0500
TZNAME:EST
DTSTART:20261101T060000
END:STANDARD
END:VTIMEZONE
BEGIN:VEVENT
DTSTART;VALUE=DATE:20251107
DTEND;VALUE=DATE:20251109
DTSTAMP:20260424T032023
CREATED:20250812T110238Z
LAST-MODIFIED:20251107T143128Z
UID:18157-1762473600-1762646399@communitymusicworks.org
SUMMARY:Bach to the Future: The All-Night Bach Marathon
DESCRIPTION:And WE’RE BACH! The Bach Marathon returns for the 12th annual collaboration between Community MusicWorks and the musicians in and around Providence. \nThis unique event creates a space for musicians of all types to interpret and explore the music of J.S. Bach\, using both classical and non-traditional/experimental approaches. Bring a blanket and pillow\, and come and go as you please. Coffee will be brewing courtesy of the local shop\, the Coffee Exchange\, and we will celebrate midnight with pasta! \nCurated by the amazing  Zan Berry! \nBach to the Future: The All-Night Bach Marathon\nFriday\, November 7\, 7 pm – Saturday\, November 8\, 7 am\nManning Chapel\, Brown University\n21 Prospect St\, Providence\, RI 02912\nDirections to Manning Chapel\nAdmission is free; no reservations necessary \nGraphic designed by Jeremy Ferris \nThis Year’s Lineup:
URL:https://communitymusicworks.org/event/bach-to-the-future-the-all-night-bach-marathon-4/
LOCATION:Manning Chapel at Brown University\, 21 Prospect Street\, Providence\, RI\, 02912\, United States
END:VEVENT
END:VCALENDAR