BEGIN:VCALENDAR
VERSION:2.0
PRODID:-//Community MusicWorks - ECPv6.15.17.1//NONSGML v1.0//EN
CALSCALE:GREGORIAN
METHOD:PUBLISH
X-WR-CALNAME:Community MusicWorks
X-ORIGINAL-URL:https://communitymusicworks.org
X-WR-CALDESC:Events for Community MusicWorks
REFRESH-INTERVAL;VALUE=DURATION:PT1H
X-Robots-Tag:noindex
X-PUBLISHED-TTL:PT1H
BEGIN:VTIMEZONE
TZID:America/New_York
BEGIN:DAYLIGHT
TZOFFSETFROM:-0500
TZOFFSETTO:-0400
TZNAME:EDT
DTSTART:20240310T070000
END:DAYLIGHT
BEGIN:STANDARD
TZOFFSETFROM:-0400
TZOFFSETTO:-0500
TZNAME:EST
DTSTART:20241103T060000
END:STANDARD
BEGIN:DAYLIGHT
TZOFFSETFROM:-0500
TZOFFSETTO:-0400
TZNAME:EDT
DTSTART:20250309T070000
END:DAYLIGHT
BEGIN:STANDARD
TZOFFSETFROM:-0400
TZOFFSETTO:-0500
TZNAME:EST
DTSTART:20251102T060000
END:STANDARD
BEGIN:DAYLIGHT
TZOFFSETFROM:-0500
TZOFFSETTO:-0400
TZNAME:EDT
DTSTART:20260308T070000
END:DAYLIGHT
BEGIN:STANDARD
TZOFFSETFROM:-0400
TZOFFSETTO:-0500
TZNAME:EST
DTSTART:20261101T060000
END:STANDARD
END:VTIMEZONE
BEGIN:VEVENT
DTSTART;TZID=America/New_York:20251120T190000
DTEND;TZID=America/New_York:20251120T200000
DTSTAMP:20260424T032000
CREATED:20250812T110352Z
LAST-MODIFIED:20251117T154942Z
UID:18159-1763665200-1763668800@communitymusicworks.org
SUMMARY:Sonata Series Event #1: Adrienne Taylor / Sebastian Ruth / Andrei Baumann
DESCRIPTION:In our first Sonata Series Event of the season\, CMW Resident Musicians Adrienne Taylor and Sebastian Ruth are joined by guest pianist Andrei Baumann to share a musical evening of rich lyricism and deep expression. \nThe program features Samuel Coleridge-Taylor’s affecting Variations for Cello and Piano\, a transcription of Antonín Dvořák’s Silent Woods from the composer’s cycle for piano four-hands\, Ze Šumavy (From the Bohemian Forest)\, and Paul Hindemith’s beautifully crafted Sonata for Viola and Piano in F Major. \nCome join us for this special evening of music! \nSonata Series Event #1\nThursday\, November 20 at 7 pm\nThe CMW Center\n1326 Westminster Street\, Providence\n \n***Reserve your seat below***
URL:https://communitymusicworks.org/event/sonata-series-event-1-3/
LOCATION:The CMW Center\, 1326 Westminster Street\, Providence\, RI\, 02888\, United States
END:VEVENT
END:VCALENDAR