BEGIN:VCALENDAR
VERSION:2.0
PRODID:-//Community MusicWorks - ECPv6.15.17.1//NONSGML v1.0//EN
CALSCALE:GREGORIAN
METHOD:PUBLISH
X-WR-CALNAME:Community MusicWorks
X-ORIGINAL-URL:https://communitymusicworks.org
X-WR-CALDESC:Events for Community MusicWorks
REFRESH-INTERVAL;VALUE=DURATION:PT1H
X-Robots-Tag:noindex
X-PUBLISHED-TTL:PT1H
BEGIN:VTIMEZONE
TZID:America/New_York
BEGIN:DAYLIGHT
TZOFFSETFROM:-0500
TZOFFSETTO:-0400
TZNAME:EDT
DTSTART:20250309T070000
END:DAYLIGHT
BEGIN:STANDARD
TZOFFSETFROM:-0400
TZOFFSETTO:-0500
TZNAME:EST
DTSTART:20251102T060000
END:STANDARD
BEGIN:DAYLIGHT
TZOFFSETFROM:-0500
TZOFFSETTO:-0400
TZNAME:EDT
DTSTART:20260308T070000
END:DAYLIGHT
BEGIN:STANDARD
TZOFFSETFROM:-0400
TZOFFSETTO:-0500
TZNAME:EST
DTSTART:20261101T060000
END:STANDARD
BEGIN:DAYLIGHT
TZOFFSETFROM:-0500
TZOFFSETTO:-0400
TZNAME:EDT
DTSTART:20270314T070000
END:DAYLIGHT
BEGIN:STANDARD
TZOFFSETFROM:-0400
TZOFFSETTO:-0500
TZNAME:EST
DTSTART:20271107T060000
END:STANDARD
END:VTIMEZONE
BEGIN:VEVENT
DTSTART;TZID=America/New_York:20260116T193000
DTEND;TZID=America/New_York:20260116T210000
DTSTAMP:20260423T235001
CREATED:20251223T204834Z
LAST-MODIFIED:20260108T133318Z
UID:18420-1768591800-1768597200@communitymusicworks.org
SUMMARY:MusicWorks Collective Lab Concert #1: Music Meets Theater
DESCRIPTION:Experience Something New at The CMW Center\nIntroducing: Lab Concerts \nThis January\, we’re launching Lab Concerts\, a new series that invites you to join us in exploring fresh dimensions of the concert experience. As we kick off the New Year\, the concert space becomes a place for experimentation and discovery\, where music unfolds in both familiar and unexpected ways. \nJoin us as we transform the CMW Center Performance Hall into a creative playground! \nFor our first Lab Concert\, MusicWorks Collective teams up with award-winning director Brian Mertes to reimagine the chamber music experience. Every art form has its own rules\, and in this performance\, performers and audience alike embark on a journey of discovery\, blending the sensibilities of theater and music. \nFeaturing works by Caroline Shaw\, Aleksandra Vrebalov\, J. S. Bach\, the Danish String Quartet\, and original music by the ensemble\, this concert experiments with a bold new arc of performance\, where boundaries are explored\, and surprises await. \nMusicWorks Collective Lab Concert #1: Music Meets Theater\nFriday\, January 16 at 7:30 pm\nThe CMW Center\n1326 Westminster Street\, Providence \nLearn more about Brian Mertes here:\nhttp://brianmertes.com/about \n***RESERVE YOUR SEAT BELOW***
URL:https://communitymusicworks.org/event/musicworks-collective-lab-concert-music-meets-theater/
LOCATION:The CMW Center\, 1326 Westminster Street\, Providence\, RI\, 02888\, United States
END:VEVENT
END:VCALENDAR