BEGIN:VCALENDAR
VERSION:2.0
PRODID:-//Community MusicWorks - ECPv6.15.17.1//NONSGML v1.0//EN
CALSCALE:GREGORIAN
METHOD:PUBLISH
X-ORIGINAL-URL:https://communitymusicworks.org
X-WR-CALDESC:Events for Community MusicWorks
REFRESH-INTERVAL;VALUE=DURATION:PT1H
X-Robots-Tag:noindex
X-PUBLISHED-TTL:PT1H
BEGIN:VTIMEZONE
TZID:America/New_York
BEGIN:DAYLIGHT
TZOFFSETFROM:-0500
TZOFFSETTO:-0400
TZNAME:EDT
DTSTART:20250309T070000
END:DAYLIGHT
BEGIN:STANDARD
TZOFFSETFROM:-0400
TZOFFSETTO:-0500
TZNAME:EST
DTSTART:20251102T060000
END:STANDARD
BEGIN:DAYLIGHT
TZOFFSETFROM:-0500
TZOFFSETTO:-0400
TZNAME:EDT
DTSTART:20260308T070000
END:DAYLIGHT
BEGIN:STANDARD
TZOFFSETFROM:-0400
TZOFFSETTO:-0500
TZNAME:EST
DTSTART:20261101T060000
END:STANDARD
BEGIN:DAYLIGHT
TZOFFSETFROM:-0500
TZOFFSETTO:-0400
TZNAME:EDT
DTSTART:20270314T070000
END:DAYLIGHT
BEGIN:STANDARD
TZOFFSETFROM:-0400
TZOFFSETTO:-0500
TZNAME:EST
DTSTART:20271107T060000
END:STANDARD
END:VTIMEZONE
BEGIN:VEVENT
DTSTART;TZID=America/New_York:20260124T130000
DTEND;TZID=America/New_York:20260124T143000
DTSTAMP:20260423T223804
CREATED:20251223T210707Z
LAST-MODIFIED:20260115T141637Z
UID:18432-1769259600-1769265000@communitymusicworks.org
SUMMARY:MusicWorks Collective Lab Concert #2: Eeyore Has a Birthday
DESCRIPTION:*Concert for all ages; bring the whole family!* \n“Sad? Why should I be sad? It’s my birthday. The happiest day of the year\,” said Eeyore.  \nJoin the MusicWorks Collective for a playful program of music and storytelling! \nIn this enchanting program\, the MusicWorks Collective brings Jon Deak’s witty and wonderful musical composition Eeyore Has a Birthday to life\, with performers both narrating and performing A. A. Milne’s beloved tale. In addition\, the ensemble performs original works that blend words and music in imaginative ways. \nMusicWorks Collective Lab Concert #2: Eeyore Has a Birthday\nSaturday\, January 24 at 1:00 pm \nThe CMW Center\n1326 Westminster Street\, Providence \nLab Concerts is a new series designed to explore fresh dimensions of the concert experience. As we kick off the New Year\, the concert space becomes a place for experimentation and discovery\, where music unfolds in both familiar and unexpected ways. \n***RESERVE YOUR SEAT BELOW***
URL:https://communitymusicworks.org/event/musicworks-collective-lab-concert-2-eeyores-birthday-2/
LOCATION:The CMW Center\, 1326 Westminster Street\, Providence\, RI\, 02888\, United States
END:VEVENT
END:VCALENDAR