BEGIN:VCALENDAR
VERSION:2.0
PRODID:-//Community MusicWorks - ECPv6.15.17.1//NONSGML v1.0//EN
CALSCALE:GREGORIAN
METHOD:PUBLISH
X-WR-CALNAME:Community MusicWorks
X-ORIGINAL-URL:https://communitymusicworks.org
X-WR-CALDESC:Events for Community MusicWorks
REFRESH-INTERVAL;VALUE=DURATION:PT1H
X-Robots-Tag:noindex
X-PUBLISHED-TTL:PT1H
BEGIN:VTIMEZONE
TZID:America/New_York
BEGIN:DAYLIGHT
TZOFFSETFROM:-0500
TZOFFSETTO:-0400
TZNAME:EDT
DTSTART:20250309T070000
END:DAYLIGHT
BEGIN:STANDARD
TZOFFSETFROM:-0400
TZOFFSETTO:-0500
TZNAME:EST
DTSTART:20251102T060000
END:STANDARD
BEGIN:DAYLIGHT
TZOFFSETFROM:-0500
TZOFFSETTO:-0400
TZNAME:EDT
DTSTART:20260308T070000
END:DAYLIGHT
BEGIN:STANDARD
TZOFFSETFROM:-0400
TZOFFSETTO:-0500
TZNAME:EST
DTSTART:20261101T060000
END:STANDARD
BEGIN:DAYLIGHT
TZOFFSETFROM:-0500
TZOFFSETTO:-0400
TZNAME:EDT
DTSTART:20270314T070000
END:DAYLIGHT
BEGIN:STANDARD
TZOFFSETFROM:-0400
TZOFFSETTO:-0500
TZNAME:EST
DTSTART:20271107T060000
END:STANDARD
END:VTIMEZONE
BEGIN:VEVENT
DTSTART;TZID=America/New_York:20260306T180000
DTEND;TZID=America/New_York:20260306T200000
DTSTAMP:20260423T190956
CREATED:20250812T111013Z
LAST-MODIFIED:20260228T163914Z
UID:18171-1772820000-1772827200@communitymusicworks.org
SUMMARY:Youth Salon
DESCRIPTION:Youth Salon\nFriday\, March 6 at 6 pm\nThe CMW Center\n1326 Westminster Street\, Providence \nIn this rapidly changing age of technology\, many of us have both curiosities and concerns about the use of Artificial Intelligence and its place in the arts. This Youth Salon\, the students of Phase II invite you to join us as we explore the facts\, create space for open dialogue\, and engage in activities that both inspire and remind us of the importance of human creativity! \nJoin us March 6th! \nThis event is free; no reservations required.
URL:https://communitymusicworks.org/event/youth-salon-6/
LOCATION:The CMW Center\, 1326 Westminster Street\, Providence\, RI\, 02888\, United States
END:VEVENT
END:VCALENDAR