BEGIN:VCALENDAR
VERSION:2.0
PRODID:-//Community MusicWorks - ECPv6.15.17.1//NONSGML v1.0//EN
CALSCALE:GREGORIAN
METHOD:PUBLISH
X-WR-CALNAME:Community MusicWorks
X-ORIGINAL-URL:https://communitymusicworks.org
X-WR-CALDESC:Events for Community MusicWorks
REFRESH-INTERVAL;VALUE=DURATION:PT1H
X-Robots-Tag:noindex
X-PUBLISHED-TTL:PT1H
BEGIN:VTIMEZONE
TZID:America/New_York
BEGIN:DAYLIGHT
TZOFFSETFROM:-0500
TZOFFSETTO:-0400
TZNAME:EDT
DTSTART:20250309T070000
END:DAYLIGHT
BEGIN:STANDARD
TZOFFSETFROM:-0400
TZOFFSETTO:-0500
TZNAME:EST
DTSTART:20251102T060000
END:STANDARD
BEGIN:DAYLIGHT
TZOFFSETFROM:-0500
TZOFFSETTO:-0400
TZNAME:EDT
DTSTART:20260308T070000
END:DAYLIGHT
BEGIN:STANDARD
TZOFFSETFROM:-0400
TZOFFSETTO:-0500
TZNAME:EST
DTSTART:20261101T060000
END:STANDARD
BEGIN:DAYLIGHT
TZOFFSETFROM:-0500
TZOFFSETTO:-0400
TZNAME:EDT
DTSTART:20270314T070000
END:DAYLIGHT
BEGIN:STANDARD
TZOFFSETFROM:-0400
TZOFFSETTO:-0500
TZNAME:EST
DTSTART:20271107T060000
END:STANDARD
END:VTIMEZONE
BEGIN:VEVENT
DTSTART;TZID=America/New_York:20260312T190000
DTEND;TZID=America/New_York:20260312T200000
DTSTAMP:20260423T202941
CREATED:20250812T111100Z
LAST-MODIFIED:20260306T220734Z
UID:18173-1773342000-1773345600@communitymusicworks.org
SUMMARY:Sonata Series Event #2
DESCRIPTION:Our second Sonata Series Event features Resident Musicians Minna Choi and Zan Berry along with guest pianist Eliko Akahori for a program steeped in romanticism and deep expression.  \nCome experience Amy Beach’s dramatic and passionate Violin Sonata and the equally affecting Cello Sonata in e minor by Johannes Brahms. You won’t want to miss this evening of music! \nSonata Series Event #2\nThursday\, March 12 at 7 pm\nThe CMW Center\n1326 Westminster Street\, Providence\n \n***Reserve your seat below***
URL:https://communitymusicworks.org/event/sonata-series-event-2-3/
LOCATION:The CMW Center\, 1326 Westminster Street\, Providence\, RI\, 02888\, United States
END:VEVENT
END:VCALENDAR