BEGIN:VCALENDAR
VERSION:2.0
PRODID:-//Community MusicWorks - ECPv6.15.17.1//NONSGML v1.0//EN
CALSCALE:GREGORIAN
METHOD:PUBLISH
X-WR-CALNAME:Community MusicWorks
X-ORIGINAL-URL:https://communitymusicworks.org
X-WR-CALDESC:Events for Community MusicWorks
REFRESH-INTERVAL;VALUE=DURATION:PT1H
X-Robots-Tag:noindex
X-PUBLISHED-TTL:PT1H
BEGIN:VTIMEZONE
TZID:America/New_York
BEGIN:DAYLIGHT
TZOFFSETFROM:-0500
TZOFFSETTO:-0400
TZNAME:EDT
DTSTART:20250309T070000
END:DAYLIGHT
BEGIN:STANDARD
TZOFFSETFROM:-0400
TZOFFSETTO:-0500
TZNAME:EST
DTSTART:20251102T060000
END:STANDARD
BEGIN:DAYLIGHT
TZOFFSETFROM:-0500
TZOFFSETTO:-0400
TZNAME:EDT
DTSTART:20260308T070000
END:DAYLIGHT
BEGIN:STANDARD
TZOFFSETFROM:-0400
TZOFFSETTO:-0500
TZNAME:EST
DTSTART:20261101T060000
END:STANDARD
BEGIN:DAYLIGHT
TZOFFSETFROM:-0500
TZOFFSETTO:-0400
TZNAME:EDT
DTSTART:20270314T070000
END:DAYLIGHT
BEGIN:STANDARD
TZOFFSETFROM:-0400
TZOFFSETTO:-0500
TZNAME:EST
DTSTART:20271107T060000
END:STANDARD
END:VTIMEZONE
BEGIN:VEVENT
DTSTART;TZID=America/New_York:20260306T180000
DTEND;TZID=America/New_York:20260306T200000
DTSTAMP:20260423T191822
CREATED:20250812T111013Z
LAST-MODIFIED:20260228T163914Z
UID:18171-1772820000-1772827200@communitymusicworks.org
SUMMARY:Youth Salon
DESCRIPTION:Youth Salon\nFriday\, March 6 at 6 pm\nThe CMW Center\n1326 Westminster Street\, Providence \nIn this rapidly changing age of technology\, many of us have both curiosities and concerns about the use of Artificial Intelligence and its place in the arts. This Youth Salon\, the students of Phase II invite you to join us as we explore the facts\, create space for open dialogue\, and engage in activities that both inspire and remind us of the importance of human creativity! \nJoin us March 6th! \nThis event is free; no reservations required.
URL:https://communitymusicworks.org/event/youth-salon-6/
LOCATION:The CMW Center\, 1326 Westminster Street\, Providence\, RI\, 02888\, United States
END:VEVENT
BEGIN:VEVENT
DTSTART;TZID=America/New_York:20260312T190000
DTEND;TZID=America/New_York:20260312T200000
DTSTAMP:20260423T191822
CREATED:20250812T111100Z
LAST-MODIFIED:20260306T220734Z
UID:18173-1773342000-1773345600@communitymusicworks.org
SUMMARY:Sonata Series Event #2
DESCRIPTION:Our second Sonata Series Event features Resident Musicians Minna Choi and Zan Berry along with guest pianist Eliko Akahori for a program steeped in romanticism and deep expression.  \nCome experience Amy Beach’s dramatic and passionate Violin Sonata and the equally affecting Cello Sonata in e minor by Johannes Brahms. You won’t want to miss this evening of music! \nSonata Series Event #2\nThursday\, March 12 at 7 pm\nThe CMW Center\n1326 Westminster Street\, Providence\n \n***Reserve your seat below***
URL:https://communitymusicworks.org/event/sonata-series-event-2-3/
LOCATION:The CMW Center\, 1326 Westminster Street\, Providence\, RI\, 02888\, United States
END:VEVENT
BEGIN:VEVENT
DTSTART;TZID=America/New_York:20260328T160000
DTEND;TZID=America/New_York:20260328T180000
DTSTAMP:20260423T191822
CREATED:20260217T213408Z
LAST-MODIFIED:20260224T165648Z
UID:18574-1774713600-1774720800@communitymusicworks.org
SUMMARY:An Afternoon with Emanuel Ax to Benefit CMW
DESCRIPTION:World-renowned pianist Emanuel Ax returns to Community MusicWorks!\nJoin us Saturday\, March 28 for an unforgettable afternoon of music. Emanuel Ax performs a program of solo works and joins the MusicWorks Collective for the sublime Mozart Piano Concerto No. 14\, K. 449. \nThis event promises an intimate\, deeply expressive musical experience\, set within the CMW Center Performance Hall’s state-of-the-art acoustics. \nAll proceeds support CMW’s free music programs\, bringing the joy and transformative power of music to young people in our community. \nEmanuel Ax and the MusicWorks Collective in a Benefit for Community MusicWorks\nSaturday\, March 28 at 4 pm\nThe CMW Center\n1326 Westminster Street\, Providence \nTicket prices to benefit CMW: \nMaestro  – $1\,000 includes a front-row seat to the concert.\nVirtuoso – $500 includes a second or third row seat to the concert.\nSuperstar – $250 includes a back section seat to the concert.  \n***Reserve your seat below***
URL:https://communitymusicworks.org/event/emanuel-ax-and-musicworks-collective-in-a-benefit-for-cmw/
LOCATION:The CMW Center\, 1326 Westminster Street\, Providence\, RI\, 02888\, United States
END:VEVENT
BEGIN:VEVENT
DTSTART;TZID=America/New_York:20260430T190000
DTEND;TZID=America/New_York:20260430T200000
DTSTAMP:20260423T191822
CREATED:20250812T111339Z
LAST-MODIFIED:20260417T164510Z
UID:18179-1777575600-1777579200@communitymusicworks.org
SUMMARY:Sonata Series Event #3
DESCRIPTION:Join us for the final Sonata Series Event of the season! Resident Musicians Lisa Sailer and Kimberly Fang are joined by guest pianist Ivan Tan for a compelling evening of music featuring works by Brahms and Prokofiev. Come hear Brahms’ beloved Sonata No. 1 in G Major\, arranged for viola and piano and Prokofiev’s haunting Sonata No. 1 in f minor. You won’t want to miss this event! \nSonata Series Event #3\nThursday\, April 30 at 7 pm\nThe CMW Center \n***Reserve your seat below***
URL:https://communitymusicworks.org/event/sonata-series-event-3-3/
LOCATION:The CMW Center\, 1326 Westminster Street\, Providence\, RI\, 02888\, United States
END:VEVENT
BEGIN:VEVENT
DTSTART;TZID=America/New_York:20260505T180000
DTEND;TZID=America/New_York:20260505T190000
DTSTAMP:20260423T191822
CREATED:20250812T111445Z
LAST-MODIFIED:20250812T111445Z
UID:18181-1778004000-1778007600@communitymusicworks.org
SUMMARY:Senior Student Recital
DESCRIPTION:
URL:https://communitymusicworks.org/event/senior-student-recital/
LOCATION:The CMW Center\, 1326 Westminster Street\, Providence\, RI\, 02888\, United States
END:VEVENT
BEGIN:VEVENT
DTSTART;TZID=America/New_York:20260519T180000
DTEND;TZID=America/New_York:20260519T200000
DTSTAMP:20260423T191822
CREATED:20250812T111539Z
LAST-MODIFIED:20250812T111539Z
UID:18183-1779213600-1779220800@communitymusicworks.org
SUMMARY:End-of-Year Student Gala
DESCRIPTION:
URL:https://communitymusicworks.org/event/end-of-year-student-gala-7/
LOCATION:Providence Career & Technical Academy\, 41 Fricker Street\, Providence\, RI\, 02903\, United States
END:VEVENT
BEGIN:VEVENT
DTSTART;TZID=America/New_York:20260606T160000
DTEND;TZID=America/New_York:20260606T180000
DTSTAMP:20260423T191822
CREATED:20250812T111634Z
LAST-MODIFIED:20250812T111634Z
UID:18185-1780761600-1780768800@communitymusicworks.org
SUMMARY:MusicWorks Collective Season Closing Concert
DESCRIPTION:
URL:https://communitymusicworks.org/event/musicworks-collective-season-closing-concert/
LOCATION:The CMW Center\, 1326 Westminster Street\, Providence\, RI\, 02888\, United States
END:VEVENT
END:VCALENDAR