BEGIN:VCALENDAR
VERSION:2.0
PRODID:-//Community MusicWorks - ECPv6.15.17.1//NONSGML v1.0//EN
CALSCALE:GREGORIAN
METHOD:PUBLISH
X-WR-CALNAME:Community MusicWorks
X-ORIGINAL-URL:https://communitymusicworks.org
X-WR-CALDESC:Events for Community MusicWorks
REFRESH-INTERVAL;VALUE=DURATION:PT1H
X-Robots-Tag:noindex
X-PUBLISHED-TTL:PT1H
BEGIN:VTIMEZONE
TZID:America/New_York
BEGIN:DAYLIGHT
TZOFFSETFROM:-0500
TZOFFSETTO:-0400
TZNAME:EDT
DTSTART:20180311T070000
END:DAYLIGHT
BEGIN:STANDARD
TZOFFSETFROM:-0400
TZOFFSETTO:-0500
TZNAME:EST
DTSTART:20181104T060000
END:STANDARD
BEGIN:DAYLIGHT
TZOFFSETFROM:-0500
TZOFFSETTO:-0400
TZNAME:EDT
DTSTART:20190310T070000
END:DAYLIGHT
BEGIN:STANDARD
TZOFFSETFROM:-0400
TZOFFSETTO:-0500
TZNAME:EST
DTSTART:20191103T060000
END:STANDARD
BEGIN:DAYLIGHT
TZOFFSETFROM:-0500
TZOFFSETTO:-0400
TZNAME:EDT
DTSTART:20200308T070000
END:DAYLIGHT
BEGIN:STANDARD
TZOFFSETFROM:-0400
TZOFFSETTO:-0500
TZNAME:EST
DTSTART:20201101T060000
END:STANDARD
BEGIN:DAYLIGHT
TZOFFSETFROM:-0500
TZOFFSETTO:-0400
TZNAME:EDT
DTSTART:20210314T070000
END:DAYLIGHT
BEGIN:STANDARD
TZOFFSETFROM:-0400
TZOFFSETTO:-0500
TZNAME:EST
DTSTART:20211107T060000
END:STANDARD
END:VTIMEZONE
BEGIN:VEVENT
DTSTART;TZID=America/New_York:20200503T140000
DTEND;TZID=America/New_York:20200503T170000
DTSTAMP:20260425T101621
CREATED:20200424T134550Z
LAST-MODIFIED:20200429T144022Z
UID:13664-1588514400-1588525200@communitymusicworks.org
SUMMARY:CMW Fellows Quartet
DESCRIPTION:Due to the ongoing health crisis\, this event has been canceled. We will update calendar information as we reimagine and/or reschedule this and other CMW spring events. \nTo get the latest in CMW updates\, click here to sign up for our enews\, print mailings\, and to follow us on social media.
URL:https://communitymusicworks.org/event/cmw-fellows-quartet/
ATTACH;FMTTYPE=image/png:https://communitymusicworks.org/wp-content/uploads/2020/04/CMW_musicworks-stamp.png
END:VEVENT
BEGIN:VEVENT
DTSTART;TZID=America/New_York:20200425T150000
DTEND;TZID=America/New_York:20200425T170000
DTSTAMP:20260425T101621
CREATED:20200424T134523Z
LAST-MODIFIED:20200424T134523Z
UID:13663-1587826800-1587834000@communitymusicworks.org
SUMMARY:Youth Salon
DESCRIPTION:Due to the ongoing health crisis\, this event has been canceled. We will update calendar information as we reimagine and/or reschedule this and other CMW spring events. \nTo get the latest in CMW updates\, click here to sign up for our enews\, print mailings\, and to follow us on social media. \n  \n  \n  \n  \n  \n  \n  \nThis interactive event\, hosted by our teen student group\, Phase II\, includes activities and conversations led by Phase II members\, a community dinner\, and student performances\, all revolving around societal issues chosen by the students\, including gun violence\, climate change\, and mental health. \nYouth Salon
URL:https://communitymusicworks.org/event/youth-salon/
END:VEVENT
BEGIN:VEVENT
DTSTART;TZID=America/New_York:20200322T150000
DTEND;TZID=America/New_York:20200322T163000
DTSTAMP:20260425T101621
CREATED:20200424T134848Z
LAST-MODIFIED:20200424T134848Z
UID:13669-1584889200-1584894600@communitymusicworks.org
SUMMARY:MusicWorks Collective at Dorcas International's Spring Festival
DESCRIPTION:MusicWorks Collective at Dorcas International’s Spring Festival \n**THIS EVENT HAS BEEN POSTPONED**  \nDear friends\,\n\nIt goes without saying that the well-being of our community is important to us. So\, in heeding recommendations to limit public gatherings to prevent the spread of the COVID-19 virus and in careful consideration of the health of those who planned to attend our March events\, we have decided to postpone these concerts:\n\nSunday\, March 22: Dorcas International’s Spring Festival\nSaturday\, March 28: Annual Fred Kelley Scholarship Concert\n\nWe will continue to monitor the situation and will be in touch with updates when rescheduled dates have been determined.\n\nbest\,\nThe CMW Staff\n\n+++++++++++++\nDorcas International Institute of Rhode Island presents a Spring Festival community gathering featuring dancing\, food\, and music by the MusicWorks Collective and musician/composers Kareem Roustom and Kinan Azmeh. \n2:00pm: Food\, Dancing\, and Presentations\n3:00pm: Music \nCityArts\, 891 Broad St.\nAdmission is free\nClick here to make reservations \nSponsored in part by the Rhode Island Community Grants Program
URL:https://communitymusicworks.org/event/musicworks-collective-at-dorcas-internationals-spring-festival/
END:VEVENT
BEGIN:VEVENT
DTSTART;TZID=America/New_York:20200129T180000
DTEND;TZID=America/New_York:20200129T200000
DTSTAMP:20260425T101621
CREATED:20200424T134806Z
LAST-MODIFIED:20200424T134806Z
UID:13668-1580320800-1580328000@communitymusicworks.org
SUMMARY:Cultural Appropriation vs. Appreciation: A Pre-Concert Event
DESCRIPTION:A pre-concert discussion led by CMW Resident Musician Jesse Holstein on the topic of “Cultural Appropriation vs. Appreciation” in anticipation of the Saturday\, February 1 concert at the Granoff Center for the Creative Arts. \nThe line between cultural appropriation and appreciation in music can sometimes be difficult to navigate and distinguish. When does a cultural reference in a piece of music go beyond respectfully honoring another culture or heritage and border into exoticism or spectacle? Can music be appropriative if the composer is referencing their own culture? \nPlease join us as we discuss these challenging topics while looking at three works for string quartet that are inspired or influenced by indigenous folk music. Excerpts from works by Debussy\, Bartók\, and Zhou Long will be performed by the MusicWorks Collective. \nCultural Appropriation vs. Appreciation \nWednesday\, January 29\n6pm reception\, 6:30pm discussion/performance\nProvidence Public Library\n150 Empire Street \nAdmission is free*\n*Seating for this event is full. Email lcox@communitymusicworks.org to place your name on the waiting list.
URL:https://communitymusicworks.org/event/cultural-appropriation-vs-appreciation-a-pre-concert-event/
END:VEVENT
BEGIN:VEVENT
DTSTART;TZID=America/New_York:20191027T160000
DTEND;TZID=America/New_York:20191027T180000
DTSTAMP:20260425T101621
CREATED:20200424T134738Z
LAST-MODIFIED:20200424T134738Z
UID:13667-1572192000-1572199200@communitymusicworks.org
SUMMARY:Bach and Friends
DESCRIPTION:  \n \n  \n  \n  \n  \n  \n  \n  \n  \nJoin us on Sunday\, October 27 at 4pm for an afternoon of baroque music performed by the MusicWorks Collective and guests at the dazzling new Pavilion space at Grace Episcopal Church. The program offers a glimpse into the world of 17th century weddings\, parties\, and battles with Bach’s “Wedding Cantata” (BWV 202)\, featuring the brilliant soprano Kristen Watson\, the rousing “Battalia” by Heinrich Biber\, a harpsichord concerto by Bach contemporary Wilhelmina of Prussia featuring harpsichordist Michael Bahmann\, and the ever-popular Brandenburg Concerto no. 3.  \nBach and Friends\nSunday\, October 27\, 4pm\nThe Pavilion at Grace Episcopal Church\n300 Westminster Street\nProvidence\, RI 02903\nDirections \nA wine and hors d’oeuvres reception following the concert.\nSuggested donation of $20\nPatron Seating $100\nEmail Thano@chaltas.com to make your reservation.
URL:https://communitymusicworks.org/event/bach-and-friends/
END:VEVENT
END:VCALENDAR