BEGIN:VCALENDAR
VERSION:2.0
PRODID:-//Community MusicWorks - ECPv6.15.17.1//NONSGML v1.0//EN
CALSCALE:GREGORIAN
METHOD:PUBLISH
X-WR-CALNAME:Community MusicWorks
X-ORIGINAL-URL:https://communitymusicworks.org
X-WR-CALDESC:Events for Community MusicWorks
REFRESH-INTERVAL;VALUE=DURATION:PT1H
X-Robots-Tag:noindex
X-PUBLISHED-TTL:PT1H
BEGIN:VTIMEZONE
TZID:America/New_York
BEGIN:DAYLIGHT
TZOFFSETFROM:-0500
TZOFFSETTO:-0400
TZNAME:EDT
DTSTART:20230312T070000
END:DAYLIGHT
BEGIN:STANDARD
TZOFFSETFROM:-0400
TZOFFSETTO:-0500
TZNAME:EST
DTSTART:20231105T060000
END:STANDARD
BEGIN:DAYLIGHT
TZOFFSETFROM:-0500
TZOFFSETTO:-0400
TZNAME:EDT
DTSTART:20240310T070000
END:DAYLIGHT
BEGIN:STANDARD
TZOFFSETFROM:-0400
TZOFFSETTO:-0500
TZNAME:EST
DTSTART:20241103T060000
END:STANDARD
BEGIN:DAYLIGHT
TZOFFSETFROM:-0500
TZOFFSETTO:-0400
TZNAME:EDT
DTSTART:20250309T070000
END:DAYLIGHT
BEGIN:STANDARD
TZOFFSETFROM:-0400
TZOFFSETTO:-0500
TZNAME:EST
DTSTART:20251102T060000
END:STANDARD
END:VTIMEZONE
BEGIN:VEVENT
DTSTART;TZID=America/New_York:20240203T150000
DTEND;TZID=America/New_York:20240203T170000
DTSTAMP:20260425T132916
CREATED:20240109T185423Z
LAST-MODIFIED:20240109T185423Z
UID:17071-1706972400-1706979600@communitymusicworks.org
SUMMARY:Student Performance Party
DESCRIPTION:  \n  \n  \n  \n  \n  \n  \n Join us in cheering on our students as they perform for family and friends! \nStudent Performance Party\nSaturday\, February 3 at 3 pm\nCalvary Baptist Church
URL:https://communitymusicworks.org/event/student-performance-party-7/
LOCATION:Calvary Baptist Church\, 747 Broad Street\, Providence\, RI\, 02907
END:VEVENT
BEGIN:VEVENT
DTSTART;TZID=America/New_York:20240215T190000
DTEND;TZID=America/New_York:20240215T200000
DTSTAMP:20260425T132916
CREATED:20230901T171618Z
LAST-MODIFIED:20240205T195653Z
UID:16869-1708023600-1708027200@communitymusicworks.org
SUMMARY:Sonata Series Event #2
DESCRIPTION:In the second concert of this year’s Sonata Series\, we explore the special sound world of Johannes Brahms and Clara Schumann—deep feeling and heartfelt melodies charted over oceanic musical structures. \n\n\nThe program features Three Romances by Clara Schumann\, played on viola and piano by Sebastian Ruth and Eliko Akahori. Mezzo soprano Krista River joins the duo for the two Brahms songs op. 91 for alto voice\, viola\, and piano that masterfully match the rich sonorities of the viola voice and mezzo soprano. \n\n\nMiguel Vásquez and Eliko close out the program with Brahms’ tempestuous and affecting Cello Sonata No. 2 in F Major. You won’t want to miss this evening of music! \n\n\n Sonata Series Event #2\nThursday\, February 15 at 7 pm\nBell Street Chapel\nAdmission is free but seating is limited.\nMake your reservation here.
URL:https://communitymusicworks.org/event/sonata-series-event-2/
LOCATION:Bell Street Chapel\, 5 Bell Street\, Providence\, RI\, 02909
END:VEVENT
BEGIN:VEVENT
DTSTART;TZID=America/New_York:20240224T150000
DTEND;TZID=America/New_York:20240224T163000
DTSTAMP:20260425T132916
CREATED:20230901T171858Z
LAST-MODIFIED:20240216T183123Z
UID:16872-1708786800-1708792200@communitymusicworks.org
SUMMARY:Annual Fred Kelley Scholarship Concert
DESCRIPTION:Join us for an afternoon of music that features Piano Trio No. 3 in f minor\, composed by Antonín Dvořák\, performed by CMW Resident Musicians Jesse Holstein and Adrienne Taylor with guest pianist Andrei Baumann. The program also includes a large student ensemble performance of Jessie Montgomery’s Anthem. \n\n\nAnnual Fred Kelley Scholarship Concert\nSaturday\, February 24 at 3 pm\nBell Street Chapel \n\n\nAdmission is free*\, but seating is limited.\nMake your reservation here. \n\n\n*Donations at the concert support CMW student scholarships to the summer program at Apple Hill Center for Chamber Music. \n\n 
URL:https://communitymusicworks.org/event/annual-fred-kelley-scholarship-concert-2/
LOCATION:Bell Street Chapel\, 5 Bell Street\, Providence\, RI\, 02909
END:VEVENT
END:VCALENDAR