BEGIN:VCALENDAR
VERSION:2.0
PRODID:-//Community MusicWorks - ECPv6.15.17.1//NONSGML v1.0//EN
CALSCALE:GREGORIAN
METHOD:PUBLISH
X-WR-CALNAME:Community MusicWorks
X-ORIGINAL-URL:https://communitymusicworks.org
X-WR-CALDESC:Events for Community MusicWorks
REFRESH-INTERVAL;VALUE=DURATION:PT1H
X-Robots-Tag:noindex
X-PUBLISHED-TTL:PT1H
BEGIN:VTIMEZONE
TZID:America/New_York
BEGIN:DAYLIGHT
TZOFFSETFROM:-0500
TZOFFSETTO:-0400
TZNAME:EDT
DTSTART:20230312T070000
END:DAYLIGHT
BEGIN:STANDARD
TZOFFSETFROM:-0400
TZOFFSETTO:-0500
TZNAME:EST
DTSTART:20231105T060000
END:STANDARD
BEGIN:DAYLIGHT
TZOFFSETFROM:-0500
TZOFFSETTO:-0400
TZNAME:EDT
DTSTART:20240310T070000
END:DAYLIGHT
BEGIN:STANDARD
TZOFFSETFROM:-0400
TZOFFSETTO:-0500
TZNAME:EST
DTSTART:20241103T060000
END:STANDARD
BEGIN:DAYLIGHT
TZOFFSETFROM:-0500
TZOFFSETTO:-0400
TZNAME:EDT
DTSTART:20250309T070000
END:DAYLIGHT
BEGIN:STANDARD
TZOFFSETFROM:-0400
TZOFFSETTO:-0500
TZNAME:EST
DTSTART:20251102T060000
END:STANDARD
END:VTIMEZONE
BEGIN:VEVENT
DTSTART;TZID=America/New_York:20240301T180000
DTEND;TZID=America/New_York:20240301T200000
DTSTAMP:20260425T114255
CREATED:20230901T172044Z
LAST-MODIFIED:20240227T205631Z
UID:16874-1709316000-1709323200@communitymusicworks.org
SUMMARY:Youth Salon
DESCRIPTION:  \nPhase II presents: Dinner & A Movie \nJoin CMW’s Phase II students in exploring radical and gradual change in\nDeconstructing Disparity: How Change Happens.  \nYouth Salon\nFriday\, March 1 from 6* – 8 pm\nBell Street Chapel\nAdmission is free and no reservations are necessary \n*Join us for dinner at 6 pm!
URL:https://communitymusicworks.org/event/youth-salon-4/
LOCATION:Bell Street Chapel\, 5 Bell Street\, Providence\, RI\, 02909
END:VEVENT
BEGIN:VEVENT
DTSTART;TZID=America/New_York:20240321T190000
DTEND;TZID=America/New_York:20240321T200000
DTSTAMP:20260425T114255
CREATED:20230901T172246Z
LAST-MODIFIED:20240307T201830Z
UID:16876-1711047600-1711051200@communitymusicworks.org
SUMMARY:Sonata Series Event #3
DESCRIPTION:In the final Sonata Series Event of our season\, we explore music inspired by folk song and dance traditions from Spain and Argentina. Violist Chloë Kline takes us into the world of Andalusian Flamenco with the evocative Asturias composed by Isaac Albéniz. Chloë and guest pianist Jeff Louie will also share Manuel de Falla’s beloved Siete Canciones Populares Españolas (Seven Spanish Folksongs). To round out the program\, violinist Minna Choi and Jeff Louie will play the lively and soulful L’histoire du Tango (History of Tango) by Astor Piazzolla. Bring your dancing spirit and join us! \nSonata Series Event #3\nThursday\, March 21 at 7 pm\nBell Street Chapel\, Providence \nAdmission is free but seating is limited.\nMake your reservation here.
URL:https://communitymusicworks.org/event/sonata-series-event-3/
LOCATION:Bell Street Chapel\, 5 Bell Street\, Providence\, RI\, 02909
END:VEVENT
END:VCALENDAR