BEGIN:VCALENDAR
VERSION:2.0
PRODID:-//Community MusicWorks - ECPv6.15.17.1//NONSGML v1.0//EN
CALSCALE:GREGORIAN
METHOD:PUBLISH
X-WR-CALNAME:Community MusicWorks
X-ORIGINAL-URL:https://communitymusicworks.org
X-WR-CALDESC:Events for Community MusicWorks
REFRESH-INTERVAL;VALUE=DURATION:PT1H
X-Robots-Tag:noindex
X-PUBLISHED-TTL:PT1H
BEGIN:VTIMEZONE
TZID:America/New_York
BEGIN:DAYLIGHT
TZOFFSETFROM:-0500
TZOFFSETTO:-0400
TZNAME:EDT
DTSTART:20230312T070000
END:DAYLIGHT
BEGIN:STANDARD
TZOFFSETFROM:-0400
TZOFFSETTO:-0500
TZNAME:EST
DTSTART:20231105T060000
END:STANDARD
BEGIN:DAYLIGHT
TZOFFSETFROM:-0500
TZOFFSETTO:-0400
TZNAME:EDT
DTSTART:20240310T070000
END:DAYLIGHT
BEGIN:STANDARD
TZOFFSETFROM:-0400
TZOFFSETTO:-0500
TZNAME:EST
DTSTART:20241103T060000
END:STANDARD
BEGIN:DAYLIGHT
TZOFFSETFROM:-0500
TZOFFSETTO:-0400
TZNAME:EDT
DTSTART:20250309T070000
END:DAYLIGHT
BEGIN:STANDARD
TZOFFSETFROM:-0400
TZOFFSETTO:-0500
TZNAME:EST
DTSTART:20251102T060000
END:STANDARD
END:VTIMEZONE
BEGIN:VEVENT
DTSTART;TZID=America/New_York:20240510T180000
DTEND;TZID=America/New_York:20240510T190000
DTSTAMP:20260425T080029
CREATED:20230901T175716Z
LAST-MODIFIED:20240507T152621Z
UID:16880-1715364000-1715367600@communitymusicworks.org
SUMMARY:Senior Recitals
DESCRIPTION:Join us in honoring our graduates Alyssa\, Daniel\, Dayana\, Felipe\, and Melanie as they make their farewell to CMW! The program features tributes\, performances by the graduates\, Youth Alliance\, and the Phase II Orchestra\, along with cheers\, tears\, hugs\, and high fives. \nSenior Recitals\nFriday\, May 10 at 6 pm\nBell Street Chapel\, 5 Bell Street\, Providence
URL:https://communitymusicworks.org/event/senior-recitals/
LOCATION:Bell Street Chapel\, 5 Bell Street\, Providence\, RI\, 02909
END:VEVENT
BEGIN:VEVENT
DTSTART;TZID=America/New_York:20240515T120000
DTEND;TZID=America/New_York:20240515T140000
DTSTAMP:20260425T080029
CREATED:20230901T175847Z
LAST-MODIFIED:20240507T170350Z
UID:16882-1715774400-1715781600@communitymusicworks.org
SUMMARY:Lunch and Conversation with composer Reena Esmail
DESCRIPTION:We’re excited to welcome composer Reena Esmail to Providence for a week-long residency at Community MusicWorks. Reena will work with students and the MusicWorks Collective in a series of rehearsals and workshops\, and her visit culminates in a large ensemble performance at the annual End-of-Year Student Gala. \nJoin us on Wednesday\, May 15 at noon for a conversation and lunch with the composer\, where you can ask questions\, hear more about her work\, and enjoy refreshments.\nLunch will be provided. Join us! \nLunch and Conversation with Composer Reena Esmail\nWednesday\, May 15 at noon\nAdmission is free. Make your reservation here. \nMake sure to join us for Friday’s End-of-Year Student Gala!
URL:https://communitymusicworks.org/event/reena-esmail-residency-week/
LOCATION:Southside Cultural Center\, 393 Broad Street\, Providence\, RI\, 02907
END:VEVENT
BEGIN:VEVENT
DTSTART;TZID=America/New_York:20240517T180000
DTEND;TZID=America/New_York:20240517T193000
DTSTAMP:20260425T080029
CREATED:20230901T180138Z
LAST-MODIFIED:20240506T195359Z
UID:16884-1715968800-1715974200@communitymusicworks.org
SUMMARY:End-of-Year Student Gala
DESCRIPTION:We’re excited to welcome composer Reena Esmail to Providence for a week-long residency at CMW! Reena will work with students and the MusicWorks Collective in a series of rehearsals and workshops\, and her visit culminates in a large ensemble performance at the annual End-of-Year Student Gala. Join us! \nThe event’s musical centerpiece\, Reena’s composition Concerto for You\, is scored for a professional violinist to play with a youth string orchestra\, and our very own CMW Resident Musician violinist Minna Choi will perform as the featured soloist. Reena’s compositions combine influences from western classical and Hindustani or Indian classical music\, so\, we’re pleased to feature master tabla player Nitin Mitta\, who’ll lay down percussion with our student ensembles and perform a sure-to-be-stunning percussion solo. \nJoin us at the new Lindemann Performing Arts Center at Brown University for this celebratory event as CMW beginner to graduating students take the stage with the MusicWorks Collective and special guests. Cheer on our young musicians\, enjoy the fabulous venue\, and stay for the delicious buffet! We look forward to seeing you there. \nRead more about Concerto for You here: https://www.reenaesmail.com/catalog-item/concerto-for-you/ \nMany thanks to our friends at the Brown Arts Institute for making this event possible. \nEnd-of-Year Student Gala\nFriday\, May 17 at 6 pm\nThe Lindemann Performing Arts Center at Brown University\n146 Angell Street\, Providence\, RI 02912 \nAdmission is free; RESERVE YOUR SEAT HERE. \nClick to reserve: Join us for a Conversation and Lunch with composer Reena Esmail on Wednesday\, May 15 at noon.  \n 
URL:https://communitymusicworks.org/event/end-of-year-student-gala-5/
LOCATION:Lindemann Performing Arts Center\, 146 Angell Street\, Providence\, RI\, 02912
END:VEVENT
BEGIN:VEVENT
DTSTART;TZID=America/New_York:20240528T180000
DTEND;TZID=America/New_York:20240528T190000
DTSTAMP:20260425T080029
CREATED:20240520T180530Z
LAST-MODIFIED:20240520T180530Z
UID:17324-1716919200-1716922800@communitymusicworks.org
SUMMARY:Animal Songs
DESCRIPTION:  \n  \n  \n  \n  \n  \n  \n  \n  \n  \nTune in for the premiere of the latest musical presentation from the Daily Orchestra Program! Students of the DOP have chosen to make this event a fundraiser for the Rhode Island Society for the Prevention of Cruelty to Animals. \nAnimal Songs\nTuesday\, May 28 at 6 pm\nwww.YouTube.com/communitymusicworks
URL:https://communitymusicworks.org/event/animal-songs-2/
LOCATION:RI
END:VEVENT
END:VCALENDAR