BEGIN:VCALENDAR
VERSION:2.0
PRODID:-//Community MusicWorks - ECPv6.15.17.1//NONSGML v1.0//EN
CALSCALE:GREGORIAN
METHOD:PUBLISH
X-ORIGINAL-URL:https://communitymusicworks.org
X-WR-CALDESC:Events for Community MusicWorks
REFRESH-INTERVAL;VALUE=DURATION:PT1H
X-Robots-Tag:noindex
X-PUBLISHED-TTL:PT1H
BEGIN:VTIMEZONE
TZID:America/New_York
BEGIN:DAYLIGHT
TZOFFSETFROM:-0500
TZOFFSETTO:-0400
TZNAME:EDT
DTSTART:20240310T070000
END:DAYLIGHT
BEGIN:STANDARD
TZOFFSETFROM:-0400
TZOFFSETTO:-0500
TZNAME:EST
DTSTART:20241103T060000
END:STANDARD
BEGIN:DAYLIGHT
TZOFFSETFROM:-0500
TZOFFSETTO:-0400
TZNAME:EDT
DTSTART:20250309T070000
END:DAYLIGHT
BEGIN:STANDARD
TZOFFSETFROM:-0400
TZOFFSETTO:-0500
TZNAME:EST
DTSTART:20251102T060000
END:STANDARD
BEGIN:DAYLIGHT
TZOFFSETFROM:-0500
TZOFFSETTO:-0400
TZNAME:EDT
DTSTART:20260308T070000
END:DAYLIGHT
BEGIN:STANDARD
TZOFFSETFROM:-0400
TZOFFSETTO:-0500
TZNAME:EST
DTSTART:20261101T060000
END:STANDARD
END:VTIMEZONE
BEGIN:VEVENT
DTSTART;TZID=America/New_York:20250208T140000
DTEND;TZID=America/New_York:20250208T160000
DTSTAMP:20260424T163958
CREATED:20241011T201427Z
LAST-MODIFIED:20241011T201427Z
UID:17688-1739023200-1739030400@communitymusicworks.org
SUMMARY:Student Performance Party
DESCRIPTION:CMW students take the stage to perform solo\, duo\, and ensemble pieces for family and friends. Come by and cheer on our young musicians! \nThe event is followed by a potluck—bring a dish to share. \nStudent Performance Party\nSaturday\, February 8 at 2 pm\nCommunity MusicWorks Center\nAdmission is free
URL:https://communitymusicworks.org/event/student-performance-party-8/
LOCATION:The CMW Center\, 1326 Westminster Street\, Providence\, RI\, 02888\, United States
END:VEVENT
BEGIN:VEVENT
DTSTART;TZID=America/New_York:20250213T190000
DTEND;TZID=America/New_York:20250213T200000
DTSTAMP:20260424T163958
CREATED:20241011T201909Z
LAST-MODIFIED:20250212T201336Z
UID:17691-1739473200-1739476800@communitymusicworks.org
SUMMARY:Sonata Series Event #2
DESCRIPTION:**SEATS IN THE PERFORMANCE HALL ARE SOLD OUT\, BUT PLEASE JOIN US IN THE COZY CAFÉ AT THE CMW CENTER TO ENJOY A HIGH-QUALITY LIVESTREAM OF THE EVENT! NO RESERVATIONS ARE NECESSARY.**\nGuest pianist Ivan Tan joins CMW violists Walter Muelling and Sebastian Ruth in a program to warm the soul. \nWalter and Ivan present Gilbert Galindo’s Sonata for Viola and Piano\, an eclectic and harmonically modern piece that combines tasteful lyricism with jazz\, in ultimately what the composer writes is “a heartfelt song for viola.” Sebastian and Ivan share a series of pieces that capture the interiority and magic of the dark winter with Fratres by Arvo Pärt in its version for viola and piano\, Peace by Jessie Montgomery\, and selections from the Henri Vieuxtemps Sonata for Viola and Piano. \nYou won’t want to miss this evening of music! \nSonata Series Event #2\nThursday\, February 13 at 7 pm\nThe CMW Center \n**SEATS IN THE PERFORMANCE HALL ARE SOLD OUT\, BUT PLEASE JOIN US IN THE COZY CAFÉ AT THE CMW CENTER TO ENJOY A HIGH-QUALITY LIVESTREAM OF THE EVENT! NO RESERVATIONS ARE NECESSARY.**\nMake your reservation here\nThis event is free\, with an option to support CMW with Choose-What-You-Pay pricing:\n$25 adult\n$20 senior\n$5 student\nCMW students and their families: Free
URL:https://communitymusicworks.org/event/sonata-series-event-2-2/
LOCATION:The CMW Center\, 1326 Westminster Street\, Providence\, RI\, 02888\, United States
END:VEVENT
BEGIN:VEVENT
DTSTART;TZID=America/New_York:20250222T150000
DTEND;TZID=America/New_York:20250222T163000
DTSTAMP:20260424T163958
CREATED:20241011T202350Z
LAST-MODIFIED:20250222T133838Z
UID:17693-1740236400-1740241800@communitymusicworks.org
SUMMARY:MusicWorks Collective and CMW Students Side-by-Side
DESCRIPTION:Join us for a wonderful afternoon of music that features a MusicWorks Collective performance of trailblazing composer Amy Beach’s exquisite Piano Quintet with guest pianist Andrei Baumann.  \nAlso on the program: a side-by-side collaboration between CMW students and their teachers! \nDonations at this event support CMW student scholarships to summer sessions at Apple Hill Center for Chamber Music. \nMusicWorks Collective and CMW Students Side-by-Side\nSaturday\, February 22 at 3 pm\nCommunity MusicWorks Center \nMake your reservation \nThis event is free\, with an option to support the Fred Kelley Scholarship Fund with Choose-What-You-Pay suggested ticket prices:\n$25 adult\n$20 senior\n$5 student\nCMW students and families: free \n 
URL:https://communitymusicworks.org/event/annual-fred-kelley-scholarship-concert-musicworks-collective-and-cmw-students-side-by-side/
LOCATION:The CMW Center\, 1326 Westminster Street\, Providence\, RI\, 02888\, United States
END:VEVENT
END:VCALENDAR