BEGIN:VCALENDAR
VERSION:2.0
PRODID:-//Community MusicWorks - ECPv6.15.17.1//NONSGML v1.0//EN
CALSCALE:GREGORIAN
METHOD:PUBLISH
X-WR-CALNAME:Community MusicWorks
X-ORIGINAL-URL:https://communitymusicworks.org
X-WR-CALDESC:Events for Community MusicWorks
REFRESH-INTERVAL;VALUE=DURATION:PT1H
X-Robots-Tag:noindex
X-PUBLISHED-TTL:PT1H
BEGIN:VTIMEZONE
TZID:America/New_York
BEGIN:DAYLIGHT
TZOFFSETFROM:-0500
TZOFFSETTO:-0400
TZNAME:EDT
DTSTART:20240310T070000
END:DAYLIGHT
BEGIN:STANDARD
TZOFFSETFROM:-0400
TZOFFSETTO:-0500
TZNAME:EST
DTSTART:20241103T060000
END:STANDARD
BEGIN:DAYLIGHT
TZOFFSETFROM:-0500
TZOFFSETTO:-0400
TZNAME:EDT
DTSTART:20250309T070000
END:DAYLIGHT
BEGIN:STANDARD
TZOFFSETFROM:-0400
TZOFFSETTO:-0500
TZNAME:EST
DTSTART:20251102T060000
END:STANDARD
BEGIN:DAYLIGHT
TZOFFSETFROM:-0500
TZOFFSETTO:-0400
TZNAME:EDT
DTSTART:20260308T070000
END:DAYLIGHT
BEGIN:STANDARD
TZOFFSETFROM:-0400
TZOFFSETTO:-0500
TZNAME:EST
DTSTART:20261101T060000
END:STANDARD
END:VTIMEZONE
BEGIN:VEVENT
DTSTART;TZID=America/New_York:20250307T180000
DTEND;TZID=America/New_York:20250307T200000
DTSTAMP:20260424T145844
CREATED:20241011T205034Z
LAST-MODIFIED:20250303T223619Z
UID:17700-1741370400-1741377600@communitymusicworks.org
SUMMARY:Youth Salon: Sensations of Home
DESCRIPTION:CMW’s Youth Salon is an event led by the teen students in our Phase II program. The Youth Salon has a theme\, chosen by the students\, that is different every season. This year’s theme is “Sensations of Home\,” where participants explore what “home” means through performances\, a potluck where guests are invited to share meals native to their culture\, art installations\, a user-submitted playlist\, and a story booth where guests can share words or stories that evoke the feeling of home. \nJoin us! \nYouth Salon: Sensations of Home\nFriday\, March 7 at 6 pm\nThe CMW Center\n1326 Westminster Street\, Providence 02909\nAdmission is free; no reservations are necessary \nPhase II students invite you to:\nSubmit a recipe that reminds you of home\nShare a word or phrase that reminds you of home \nArtwork by Enza Cucitrone
URL:https://communitymusicworks.org/event/youth-salon-5/
LOCATION:The CMW Center\, 1326 Westminster Street\, Providence\, RI\, 02888\, United States
END:VEVENT
BEGIN:VEVENT
DTSTART;TZID=America/New_York:20250315T190000
DTEND;TZID=America/New_York:20250315T210000
DTSTAMP:20260424T145844
CREATED:20241011T204433Z
LAST-MODIFIED:20250310T181954Z
UID:17698-1742065200-1742072400@communitymusicworks.org
SUMMARY:Isidore String Quartet and MusicWorks Collective in Concert
DESCRIPTION:***This event is sold out. You are invited join us Saturday at the CMW Center to enjoy the performance via live-stream in our cafe*** \nThe celebrated Isidore String Quartet joins MusicWorks Collective musicians for a special concert capping their three-day residency at CMW. The Isidore Quartet musicians are enjoying a busy season\, having recently won the Banff International String Quartet competition\, the Avery Fisher Career Grant\, among others. They will share Billy Childs’ String Quartet No. 3\, Mozart “Dissonance“ Quartet\, K. 465\, and then will be joined by MusicWorks Collective musicians for the spirited Mendelssohn Octet. \n***SOLD OUT***Isidore String Quartet and MusicWorks Collective in Concert\nSaturday\, March 15 at 7 pm\nSeating begins at 6:30 pm\nThe CMW Center\n1326 Westminster Street\, Providence 02909
URL:https://communitymusicworks.org/event/isadore-quartet-residency/
LOCATION:The CMW Center\, 1326 Westminster Street\, Providence\, RI\, 02888\, United States
END:VEVENT
END:VCALENDAR