BEGIN:VCALENDAR
VERSION:2.0
PRODID:-//Community MusicWorks - ECPv6.15.17.1//NONSGML v1.0//EN
CALSCALE:GREGORIAN
METHOD:PUBLISH
X-WR-CALNAME:Community MusicWorks
X-ORIGINAL-URL:https://communitymusicworks.org
X-WR-CALDESC:Events for Community MusicWorks
REFRESH-INTERVAL;VALUE=DURATION:PT1H
X-Robots-Tag:noindex
X-PUBLISHED-TTL:PT1H
BEGIN:VTIMEZONE
TZID:America/New_York
BEGIN:DAYLIGHT
TZOFFSETFROM:-0500
TZOFFSETTO:-0400
TZNAME:EDT
DTSTART:20240310T070000
END:DAYLIGHT
BEGIN:STANDARD
TZOFFSETFROM:-0400
TZOFFSETTO:-0500
TZNAME:EST
DTSTART:20241103T060000
END:STANDARD
BEGIN:DAYLIGHT
TZOFFSETFROM:-0500
TZOFFSETTO:-0400
TZNAME:EDT
DTSTART:20250309T070000
END:DAYLIGHT
BEGIN:STANDARD
TZOFFSETFROM:-0400
TZOFFSETTO:-0500
TZNAME:EST
DTSTART:20251102T060000
END:STANDARD
BEGIN:DAYLIGHT
TZOFFSETFROM:-0500
TZOFFSETTO:-0400
TZNAME:EDT
DTSTART:20260308T070000
END:DAYLIGHT
BEGIN:STANDARD
TZOFFSETFROM:-0400
TZOFFSETTO:-0500
TZNAME:EST
DTSTART:20261101T060000
END:STANDARD
END:VTIMEZONE
BEGIN:VEVENT
DTSTART;TZID=America/New_York:20250607T190000
DTEND;TZID=America/New_York:20250607T203000
DTSTAMP:20260424T094725
CREATED:20250402T135517Z
LAST-MODIFIED:20250527T175205Z
UID:18038-1749322800-1749328200@communitymusicworks.org
SUMMARY:MusicWorks Collective Season Finale Concert
DESCRIPTION:  \n  \n  \n  \n  \n  \n  \n  \nMusicWorks Collective concludes Season 28 with a program of Music That Makes You Want to Dance! featuring Jennifer Higdon’s Dance Card\, Nikos Skalkottas’ Greek Dances\, and the Souvenir de Florence by Tchaikovsky. \nThe concert will be followed by a reception and dance party! \nMusicWorks Collective Season Finale Concert\nSaturday\, June 7 at 7 pm\nThe CMW Center\n1326 Westminster Street\, Providence \nThis event is free\, with optional Choose-What-You-Pay suggested ticket prices:\n$25 adult\n$20 senior\n$5 student\nCMW students and families: free   \n***RESERVE YOUR SEAT BELOW***
URL:https://communitymusicworks.org/event/musicworks-collective-season-finale-concert-3/
LOCATION:The CMW Center\, 1326 Westminster Street\, Providence\, RI\, 02888\, United States
END:VEVENT
BEGIN:VEVENT
DTSTART;TZID=America/New_York:20250614T160000
DTEND;TZID=America/New_York:20250614T190000
DTSTAMP:20260424T094725
CREATED:20250605T210742Z
LAST-MODIFIED:20250605T210742Z
UID:18114-1749916800-1749927600@communitymusicworks.org
SUMMARY:An Afternoon with Jonathan Biss
DESCRIPTION:Spend an afternoon in Biss bliss! \nPlease join us at the CMW Center for what will certainly be a magical event. \nRenowned pianist and longtime friend to CMW Jonathan Biss returns for a special concert to benefit Community MusicWorks. Jonathan will perform three emotionally stirring masterpieces: the late Schubert piano sonatas. Here’s a rare chance to hear these much-celebrated pieces performed by a virtuoso described as “mesmerizing” and “passionately committed and amazing in technical command.” \nSaturday afternoon’s performance will include two intermissions–one which features delightful refreshments. Seating is limited for this intimate performance\, so make your reservation today! \nAn Afternoon with Jonathan Biss\nSaturday\, June 14 at 4:00 pm\nThe CMW Center\n1326 Westminster Street\, Providence 02909 \nThis event to benefit CMW is free\, with optional Choose-What-You-Pay suggested ticket prices: \n$50 adult\n$100 patron\n$20 senior\n$5 student\nCMW students and families: free   \n***Reserve your seat below***
URL:https://communitymusicworks.org/event/an-afternoon-with-jonathan-biss/
LOCATION:The CMW Center\, 1326 Westminster Street\, Providence\, RI\, 02888\, United States
END:VEVENT
END:VCALENDAR