BEGIN:VCALENDAR
VERSION:2.0
PRODID:-//Community MusicWorks - ECPv6.15.17.1//NONSGML v1.0//EN
CALSCALE:GREGORIAN
METHOD:PUBLISH
X-ORIGINAL-URL:https://communitymusicworks.org
X-WR-CALDESC:Events for Community MusicWorks
REFRESH-INTERVAL;VALUE=DURATION:PT1H
X-Robots-Tag:noindex
X-PUBLISHED-TTL:PT1H
BEGIN:VTIMEZONE
TZID:America/New_York
BEGIN:DAYLIGHT
TZOFFSETFROM:-0500
TZOFFSETTO:-0400
TZNAME:EDT
DTSTART:20240310T070000
END:DAYLIGHT
BEGIN:STANDARD
TZOFFSETFROM:-0400
TZOFFSETTO:-0500
TZNAME:EST
DTSTART:20241103T060000
END:STANDARD
BEGIN:DAYLIGHT
TZOFFSETFROM:-0500
TZOFFSETTO:-0400
TZNAME:EDT
DTSTART:20250309T070000
END:DAYLIGHT
BEGIN:STANDARD
TZOFFSETFROM:-0400
TZOFFSETTO:-0500
TZNAME:EST
DTSTART:20251102T060000
END:STANDARD
BEGIN:DAYLIGHT
TZOFFSETFROM:-0500
TZOFFSETTO:-0400
TZNAME:EDT
DTSTART:20260308T070000
END:DAYLIGHT
BEGIN:STANDARD
TZOFFSETFROM:-0400
TZOFFSETTO:-0500
TZNAME:EST
DTSTART:20261101T060000
END:STANDARD
END:VTIMEZONE
BEGIN:VEVENT
DTSTART;TZID=America/New_York:20251017T193000
DTEND;TZID=America/New_York:20251017T203000
DTSTAMP:20260424T032124
CREATED:20250930T144523Z
LAST-MODIFIED:20250930T184347Z
UID:18323-1760729400-1760733000@communitymusicworks.org
SUMMARY:Discovery Series: Composer György Ligeti
DESCRIPTION:Join us for the launch of CMW’s Discovery Series—a musical exploration led by Resident Musician Jesse Holstein.\nThis immersive\, hour-long program delves into the fascinating world of composer György Ligeti (1923 – 2006) featuring audio\, video\, and excerpts from his String Quartet No. 1\, Métamorphoses nocturnes performed by the MusicWorks Collective. \nBegin your voyage of discovery with Ligeti’s groundbreaking music\, then return the following afternoon for a full performance of the quartet—alongside works by Beethoven\, Kernis\, and Cetilia—as the MusicWorks Collective presents Music of the Spheres. \n \nFriday\, October 17 at 7:30 pm\nDiscovery Series: György Ligeti\nThe CMW Center\n1326 Westminster Street\, Providence\nReserve your seat \n  \nSaturday\, October 18 at 4:00 pm\nMusicWorks Collective: Music of the Spheres\nThe CMW Center\n1326 Westminster Street\, Providence\nReserve your seat
URL:https://communitymusicworks.org/event/discovery-series-gyorgy-ligeti/
LOCATION:The CMW Center\, 1326 Westminster Street\, Providence\, RI\, 02888\, United States
END:VEVENT
BEGIN:VEVENT
DTSTART;TZID=America/New_York:20251018T160000
DTEND;TZID=America/New_York:20251018T180000
DTSTAMP:20260424T032124
CREATED:20250812T110047Z
LAST-MODIFIED:20251003T165947Z
UID:18155-1760803200-1760810400@communitymusicworks.org
SUMMARY:MusicWorks Collective: Music of the Spheres
DESCRIPTION:Join us for a captivating afternoon as we turn our gaze to the cosmos with music  inspired by the spheres. \nIn this program\, the MusicWorks Collective explores the celestial and the sublime\, presenting music inspired by the movements of the heavens and the mysteries of the universe. The concert features an evocative work by Ludwig van Beethoven\, whose compositions often echo the grandeur of nature\, the innovative textures of György Ligeti\, known for his otherworldly soundscapes; an ethereal piece by Aaron Jay Kernis; and a specially selected composition by CMW Resident Musician Laura Cetilia offering an intimate meditation on the spectacular beauty of our world. \nLet the music transport you beyond the stars! \nMusicWorks Collective: Music of the Spheres\nSaturday\, October 18 at 4 pm\nThe CMW Center\n1326 Westminster Street\, Providence 02909 \n***RESERVE YOUR SEAT BELOW*** \n 
URL:https://communitymusicworks.org/event/musicworks-collective-in-concert-6/
LOCATION:The CMW Center\, 1326 Westminster Street\, Providence\, RI\, 02888\, United States
END:VEVENT
END:VCALENDAR